BEGIN:VCALENDAR
VERSION:2.0
PRODID:icalendar-ruby
CALSCALE:GREGORIAN
METHOD:PUBLISH
BEGIN:VEVENT
DTSTAMP:20260422T003333Z
UID:17-303852@huntingtontumc.com
DTSTART:20260930T233000Z
DTEND:20261001T003000Z
CLASS:PUBLIC
CREATED:20260401T161752
DESCRIPTION:
LAST-MODIFIED:20260401T161752
LOCATION:Epworth Hall
SUMMARY:Narcotics Anonymous
URL;VALUE=URI:https://huntingtontumc.com/events/narcotics-anonymous--17/202
 6-09-30
END:VEVENT
END:VCALENDAR
