BEGIN:VCALENDAR
VERSION:2.0
PRODID:icalendar-ruby
CALSCALE:GREGORIAN
METHOD:PUBLISH
BEGIN:VEVENT
DTSTAMP:20260423T213021Z
UID:19-303565@huntingtontumc.com
DTSTART:20261002T233000Z
DTEND:20261003T003000Z
CLASS:PUBLIC
CREATED:20260401T160220
DESCRIPTION:
LAST-MODIFIED:20260401T160220
LOCATION:Epworth Hall
SUMMARY:Alanonics 
URL;VALUE=URI:https://huntingtontumc.com/events/alanonics/2026-10-02
END:VEVENT
END:VCALENDAR
