BEGIN:VCALENDAR
VERSION:2.0
PRODID:icalendar-ruby
CALSCALE:GREGORIAN
METHOD:PUBLISH
BEGIN:VEVENT
DTSTAMP:20260423T150402Z
UID:19-303561@huntingtontumc.com
DTSTART:20260904T233000Z
DTEND:20260905T003000Z
CLASS:PUBLIC
CREATED:20260401T160220
DESCRIPTION:
LAST-MODIFIED:20260401T160220
LOCATION:Epworth Hall
SUMMARY:Alanonics 
URL;VALUE=URI:https://huntingtontumc.com/events/alanonics/2026-09-04
END:VEVENT
END:VCALENDAR
