BEGIN:VCALENDAR
VERSION:2.0
PRODID:icalendar-ruby
CALSCALE:GREGORIAN
METHOD:PUBLISH
BEGIN:VEVENT
DTSTAMP:20260421T110437Z
UID:19-303557@huntingtontumc.com
DTSTART:20260807T233000Z
DTEND:20260808T003000Z
CLASS:PUBLIC
CREATED:20260401T160220
DESCRIPTION:
LAST-MODIFIED:20260401T160220
LOCATION:Epworth Hall
SUMMARY:Alanonics 
URL;VALUE=URI:https://huntingtontumc.com/events/alanonics/2026-08-07
END:VEVENT
END:VCALENDAR
