BEGIN:VCALENDAR
VERSION:2.0
PRODID:icalendar-ruby
CALSCALE:GREGORIAN
METHOD:PUBLISH
BEGIN:VEVENT
DTSTAMP:20260421T094831Z
UID:19-303556@huntingtontumc.com
DTSTART:20260731T233000Z
DTEND:20260801T003000Z
CLASS:PUBLIC
CREATED:20260401T160220
DESCRIPTION:
LAST-MODIFIED:20260401T160220
LOCATION:Epworth Hall
SUMMARY:Alanonics 
URL;VALUE=URI:https://huntingtontumc.com/events/alanonics/2026-07-31
END:VEVENT
END:VCALENDAR
